BEGIN:VCALENDAR
VERSION:2.0
PRODID:-//Designing Transformation Productions - ECPv6.15.12.2//NONSGML v1.0//EN
CALSCALE:GREGORIAN
METHOD:PUBLISH
X-WR-CALNAME:Designing Transformation Productions
X-ORIGINAL-URL:https://designingtransformation.com
X-WR-CALDESC:Events for Designing Transformation Productions
REFRESH-INTERVAL;VALUE=DURATION:PT1H
X-Robots-Tag:noindex
X-PUBLISHED-TTL:PT1H
BEGIN:VTIMEZONE
TZID:America/New_York
BEGIN:DAYLIGHT
TZOFFSETFROM:-0500
TZOFFSETTO:-0400
TZNAME:EDT
DTSTART:20150308T070000
END:DAYLIGHT
BEGIN:STANDARD
TZOFFSETFROM:-0400
TZOFFSETTO:-0500
TZNAME:EST
DTSTART:20151101T060000
END:STANDARD
BEGIN:DAYLIGHT
TZOFFSETFROM:-0500
TZOFFSETTO:-0400
TZNAME:EDT
DTSTART:20160313T070000
END:DAYLIGHT
BEGIN:STANDARD
TZOFFSETFROM:-0400
TZOFFSETTO:-0500
TZNAME:EST
DTSTART:20161106T060000
END:STANDARD
BEGIN:DAYLIGHT
TZOFFSETFROM:-0500
TZOFFSETTO:-0400
TZNAME:EDT
DTSTART:20170312T070000
END:DAYLIGHT
BEGIN:STANDARD
TZOFFSETFROM:-0400
TZOFFSETTO:-0500
TZNAME:EST
DTSTART:20171105T060000
END:STANDARD
END:VTIMEZONE
BEGIN:VEVENT
DTSTART;TZID=America/New_York:20160224T193000
DTEND;TZID=America/New_York:20160224T213000
DTSTAMP:20260420T044919
CREATED:20160129T022253Z
LAST-MODIFIED:20170713T214413Z
UID:8349-1456342200-1456349400@designingtransformation.com
SUMMARY:Master of Business Abundance™ - Module #2 Master Class
DESCRIPTION:This live session will give you an opportunity to pose questions or raise any issues you may have about the lesson’s content or more specifically about the business you are developing\, as well as to discuss your ideas and network with other emerging or new entrepreneurs.\nThis event is offered to paid participants of the of the Master of Business Abundance™ program\, at no extra charge.\nLearn More \n\nTopic: Discover Your Zen Spot™\nDiscover the place where Meaning\, Prosperity\, Authenticity and Freedom converge in your life. Figuring this out requires an extensive inner search\, but is one of the most important steps towards creating a fulfilling life. Through a series of exercises\, you will be guided in finding your true Zen Spot™ and defining your ideal tribe in a way that will effectively help you to identify and gather the community that best matches your vision and purpose. \n  \n  \nAlso Part of this Module\n\nAccess the video recordings\, as well as the the lesson plan and exercises in PDF format.\nOnline Lesson the second Wednesday night of the month (from 7:30 pm to 9:30 pm). You will be guided through the various steps and exercises that will improve your business knowledge and skills.\nConnect  with other entrepreneurs\, access more information\, and be part of a discussion group that digs deeper into each month’s theme as part of our private  Facebook group.\n\n  \nWho will be Facilitating\nLianne Bridges – Founder\, Designing Transformation Productions \nLianne received classical MBA training at Canada’s prestigious Rotman School of Management. She has 30 years of experience serving the world’s leading multinationals and not-for-profit organizations like Unilever\, Aeroplan\, Bombardier\, Nabisco\, Plan Canada\, to name a few. Over the past fifteen years\, Lianne has been a entrepreneur –  starting and leading a variety of highly successful ventures. She translates this knowledge to now serve her true passion: helping individuals\, entrepreneurs and leaders make a difference doing what they love and aligning with their highest purpose and potential. \nShe has taken her experience guiding organizations through strategic visioning processes and marketing\, and combined this with the approach she has used to transform her own life and work to offer specific tools and a step-by-step process to train and mentor people in creating a business and life they love. \nLianne lives the leadership values that she mentors – optimism\, presence\, compassion and empathy\, connection\, creativity\, courage\, kindness\, mastery\, patience and persistence – and infuses them into every aspect of her teachings. \nShe is a self-taught techno-geek – continually exploring and learning the latest social media and web technologies. She believes that anyone\, at any age\, not only can learn how to use these supportive tools\, but will truly benefit with an increased sense of empowerment when they do. \nShare this:TweetEmail
URL:https://designingtransformation.com/event/master-business-abundance-module-2-online-lesson-2/
LOCATION:Conscious Learning Lounge\, 86 Shepherd\, Hudson\, Quebec\, J0p1h0\, Canada
CATEGORIES:Master of Business Abundance
ATTACH;FMTTYPE=image/jpeg:https://designingtransformation.com/wp-content/uploads/2015/12/MBA.squre-version.jpg
ORGANIZER;CN="Lianne Bridges":MAILTO:contact@designingtransformation.com
END:VEVENT
BEGIN:VEVENT
DTSTART;TZID=America/New_York:20160210T193000
DTEND;TZID=America/New_York:20160210T213000
DTSTAMP:20260420T044919
CREATED:20160129T011422Z
LAST-MODIFIED:20170713T214413Z
UID:8347-1455132600-1455139800@designingtransformation.com
SUMMARY:Master of Business Abundance™ - Module #2 Online Lesson
DESCRIPTION:This is the Online Lesson of the second module of the 12 month Master of Business Abundance™ program.\n\nTopic: Discover Your Zen Spot™\nDiscover the place where Meaning\, Prosperity\, Authenticity and Freedom converge in your life. Figuring this out requires an extensive inner search\, but is one of the most important steps towards creating a fulfilling life. Through a series of exercises\, you will be guided in finding your true Zen Spot™ and defining your ideal tribe in a way that will effectively help you to identify and gather the community that best matches your vision and purpose. \nTune into the online lesson and watch and listen to the course instructor explain the month’s lesson plan during a live broadcast. You will be guided through the various steps and exercises that will improve your business knowledge and skills\, while establishing the elements to form your specific business plan. \n  \nAlso Included\n\nAccess the video recordings\, as well as the the lesson plan and exercises in PDF format.\nJoin the Master Class the last Wednesday night of the month (from 7:30 pm to 9:30 pm) live or online. This session will give you an opportunity to pose questions\, discuss your ideas and network with other emerging entrepreneurs.\nConnect  with other entrepreneurs\, access more information\, and be part of a discussion group that digs deeper into each month’s theme as part of our private  Facebook group.\n\n  \nWho will be Facilitating\nLianne Bridges – Founder\, Designing Transformation Productions \nLianne received classical MBA training at Canada’s prestigious Rotman School of Management. She has 30 years of experience serving the world’s leading multinationals and not-for-profit organizations like Unilever\, Aeroplan\, Bombardier\, Nabisco\, Plan Canada\, to name a few. Over the past fifteen years\, Lianne has been a entrepreneur –  starting and leading a variety of highly successful ventures. She translates this knowledge to now serve her true passion: helping individuals\, entrepreneurs and leaders make a difference doing what they love and aligning with their highest purpose and potential. \nShe has taken her experience guiding organizations through strategic visioning processes and marketing\, and combined this with the approach she has used to transform her own life and work to offer specific tools and a step-by-step process to train and mentor people in creating a business and life they love. \nLianne lives the leadership values that she mentors – optimism\, presence\, compassion and empathy\, connection\, creativity\, courage\, kindness\, mastery\, patience and persistence – and infuses them into every aspect of her teachings. \nShe is a self-taught techno-geek – continually exploring and learning the latest social media and web technologies. She believes that anyone\, at any age\, not only can learn how to use these supportive tools\, but will truly benefit with an increased sense of empowerment when they do. \nShare this:TweetEmail
URL:https://designingtransformation.com/event/master-business-abundance-module-2-online-lesson/
LOCATION:Online
CATEGORIES:Master of Business Abundance
ATTACH;FMTTYPE=image/jpeg:https://designingtransformation.com/wp-content/uploads/2015/12/MBA.squre-version.jpg
ORGANIZER;CN="Lianne Bridges":MAILTO:contact@designingtransformation.com
END:VEVENT
END:VCALENDAR